BEGIN:VCALENDAR
VERSION:2.0
PRODID:-//wp-events-plugin.com//7.2.2.1//EN
BEGIN:VEVENT
UID:17@fcstadthagen.com
DTSTART;VALUE=DATE:20240314
DTEND;VALUE=DATE:20250101
DTSTAMP:20240804T063923Z
URL:https://fcstadthagen.com/veranstaltungen/jugendtrainer-innen-g-f-und-c
 -jugend/
SUMMARY:WIR SUCHEN JUGENDTRAINER/INNEN für folgende Altersklassen G-Jugend
  U6/U7 F-Jugend U8/U9 und C-Jugend U14/U15 & A-Jugend 17/19 Jahre
DESCRIPTION:\n\nWir suchen Dich! Jugendtrainer/innen\n\nAusdauer\, Selbstdi
 sziplin\, Fairness und Teamgeist sind für Dich keine Fremdworte?\n\nWir s
 uchen engagierte\, fußballbegeisterte Leute\, die sich als Trainer/innen 
 oder Co-Trainer/innen einer Jugendmannschaft in unserem Verein einbringen 
 möchten.\n\nWIR BIETEN:\n\n* harmonische Trainerteams\n* familiäres Umfe
 ld\n* Aufwandsentschädigung\n* Unterstützung bei Aus-/ Weiterbildung\n\n
 WIR ERWARTEN:\n\n* Teamfähigkeit\n* Zuverlässigkeit\n* eigenständiges A
 rbeiten\n* soziale Kompetenz\n* Ehrgeiz\n\nDu möchtest gerne ein Probetra
 ining mitmachen\,\n\ndann melde Dich doch einfach bei unserer Jugendleitun
 g.\n\nNicole Bockenfeld: vorstand@fcstadthagen.com\n\nWir würden uns übe
 r ein Anfrage von Euch freuen....\n
END:VEVENT
END:VCALENDAR